BEGIN:VCALENDAR
VERSION:2.0
PRODID:-//wp-events-plugin.com//7.2.3.1//EN
TZID:America/Vancouver
X-WR-TIMEZONE:America/Vancouver
BEGIN:VEVENT
UID:54@viclug.ca
DTSTART;TZID=America/Vancouver:20230924T090000
DTEND;TZID=America/Vancouver:20230924T150000
DTSTAMP:20230830T042355Z
URL:https://viclug.ca/events/victorias-ultimate-toy-hobby-fair-2/
SUMMARY:Victoria's Ultimate Toy & Hobby Fair - Day 2
DESCRIPTION:Once again Chery Bomb Toys hosts the biggest Toy &amp\; Hobby F
 air on Vancouver Island and as usual we will be there.  Prepare yourself 
 for spooky Halloween themed and monstrous magical builds from the VicLUG c
 rew.\n\nAdmission: $5 (kids free)\n\nThis is 2 day event\, taking place on
  September 23 and 24\, 2023.
END:VEVENT
BEGIN:VTIMEZONE
TZID:America/Vancouver
X-LIC-LOCATION:America/Vancouver
BEGIN:DAYLIGHT
DTSTART:20230312T030000
TZOFFSETFROM:-0800
TZOFFSETTO:-0700
TZNAME:PDT
END:DAYLIGHT
END:VTIMEZONE
END:VCALENDAR