BEGIN:VCALENDAR
VERSION:2.0
PRODID:-//wp-events-plugin.com//7.2.3.1//EN
TZID:America/Vancouver
X-WR-TIMEZONE:America/Vancouver
BEGIN:VEVENT
UID:51@viclug.ca
DTSTART;TZID=America/Vancouver:20230924T100000
DTEND;TZID=America/Vancouver:20230924T160000
DTSTAMP:20230822T214302Z
URL:https://viclug.ca/events/victoria-model-train-show-2/
SUMMARY:Victoria Model Train Show
DESCRIPTION:Choo-choo choose to visit the 2023 Vancouver Island Model Railw
 ay Show featuring our latest Train and Town build.\n\nAdmission: TBA
CATEGORIES:Displays
LOCATION:Mary Winspear Centre\, 2243 Beacon Avenue\, Sidney\, British Colum
 bia\, V8L1W9\, British Columbia\, Canada
X-APPLE-STRUCTURED-LOCATION;VALUE=URI;X-ADDRESS=2243 Beacon Avenue\, Sidney
 \, British Columbia\, V8L1W9\, British Columbia\, Canada;X-APPLE-RADIUS=10
 0;X-TITLE=Mary Winspear Centre:geo:0,0
END:VEVENT
BEGIN:VTIMEZONE
TZID:America/Vancouver
X-LIC-LOCATION:America/Vancouver
BEGIN:DAYLIGHT
DTSTART:20230312T030000
TZOFFSETFROM:-0800
TZOFFSETTO:-0700
TZNAME:PDT
END:DAYLIGHT
END:VTIMEZONE
END:VCALENDAR