BEGIN:VCALENDAR
VERSION:2.0
PRODID:-//wp-events-plugin.com//7.2.3.1//EN
TZID:America/Vancouver
X-WR-TIMEZONE:America/Vancouver
BEGIN:VEVENT
UID:38@viclug.ca
DTSTART;TZID=America/Vancouver:20250120T173000
DTEND;TZID=America/Vancouver:20250120T210000
DTSTAMP:20241217T212949Z
URL:https://viclug.ca/events/monthly-club-meeting-2025-01-20/
SUMMARY:Monthly Club Meeting
DESCRIPTION:Any Adult Fan Of LEGO in all it’s nerdy glory interested in s
 eeing what we are all about is welcome to come for part or all of the even
 ing. \n\nLocation: Victoria NeighbourSpace (709/711 Douglas St)\n\nSchedul
 e: 6:00 -7:00pm - Welcome Newcomers & Start "business" portion of meeting\
 ; 7:00 – 9:00pm activities\, brick trading.\n\nParking: Some street spot
 s may be available on the other side of St. Ann’s\, otherwise the neares
 t City Parkade is under the Central Library. There is also pay parking at 
 the Convention Centre/Empress Hotel.
CATEGORIES:Meetings
LOCATION:Victoria NeighbourSpace\, 709 Douglas St\, Victoria\, BC\, Canada
X-APPLE-STRUCTURED-LOCATION;VALUE=URI;X-ADDRESS=709 Douglas St\, Victoria\,
  BC\, Canada;X-APPLE-RADIUS=100;X-TITLE=Victoria NeighbourSpace:geo:0,0
END:VEVENT
BEGIN:VTIMEZONE
TZID:America/Vancouver
X-LIC-LOCATION:America/Vancouver
BEGIN:STANDARD
DTSTART:20241103T010000
TZOFFSETFROM:-0700
TZOFFSETTO:-0800
TZNAME:PST
END:STANDARD
END:VTIMEZONE
END:VCALENDAR