BEGIN:VCALENDAR
VERSION:2.0
PRODID:-//wp-events-plugin.com//7.2.3.1//EN
TZID:America/Vancouver
X-WR-TIMEZONE:America/Vancouver
BEGIN:VEVENT
UID:33@viclug.ca
DTSTART;TZID=America/Vancouver:20240819T173000
DTEND;TZID=America/Vancouver:20240819T210000
DTSTAMP:20240723T034139Z
URL:https://viclug.ca/events/monthly-club-meeting-2024-08-19/
SUMMARY:Monthly Club Meeting - CANCELLED
DESCRIPTION:The August 2024 meeting is cancelled for summer holidays. See y
 ou in September!
CATEGORIES:Meetings
LOCATION:Victoria NeighbourSpace\, 709 Douglas St\, Victoria\, BC\, Canada
X-APPLE-STRUCTURED-LOCATION;VALUE=URI;X-ADDRESS=709 Douglas St\, Victoria\,
  BC\, Canada;X-APPLE-RADIUS=100;X-TITLE=Victoria NeighbourSpace:geo:0,0
END:VEVENT
BEGIN:VTIMEZONE
TZID:America/Vancouver
X-LIC-LOCATION:America/Vancouver
BEGIN:DAYLIGHT
DTSTART:20240310T030000
TZOFFSETFROM:-0800
TZOFFSETTO:-0700
TZNAME:PDT
END:DAYLIGHT
END:VTIMEZONE
END:VCALENDAR