BEGIN:VCALENDAR
VERSION:2.0
PRODID:-//wp-events-plugin.com//7.2.3.1//EN
TZID:America/Vancouver
X-WR-TIMEZONE:America/Vancouver
BEGIN:VEVENT
UID:32@viclug.ca
DTSTART;TZID=America/Vancouver:20240722T173000
DTEND;TZID=America/Vancouver:20240722T210000
DTSTAMP:20240327T050738Z
URL:https://viclug.ca/events/monthly-club-meeting-2024-07-15/
SUMMARY:Monthly Club Meeting
DESCRIPTION:NOTE DATE CHANGE\n\nAny Adult Fan Of LEGO in all it’s nerdy g
 lory interested in seeing what we are all about is welcome to come for par
 t of all of the evening.\n\nSchedule: Doors open at Victoria NeighbourSpac
 e (709/711 Douglas St) at 5:30 pm for food/social time/brick trading\; 7:0
 0 pm for business\; 8:00 – 9:00pm for whatever.\n\nParking: Some street 
 spots may be available on the other side of St. Ann’s\, otherwise the ne
 arest City Parkade is under the Central Library.
CATEGORIES:Meetings
LOCATION:Victoria NeighbourSpace\, 709 Douglas St\, Victoria\, BC\, Canada
X-APPLE-STRUCTURED-LOCATION;VALUE=URI;X-ADDRESS=709 Douglas St\, Victoria\,
  BC\, Canada;X-APPLE-RADIUS=100;X-TITLE=Victoria NeighbourSpace:geo:0,0
END:VEVENT
BEGIN:VTIMEZONE
TZID:America/Vancouver
X-LIC-LOCATION:America/Vancouver
BEGIN:DAYLIGHT
DTSTART:20240310T030000
TZOFFSETFROM:-0800
TZOFFSETTO:-0700
TZNAME:PDT
END:DAYLIGHT
END:VTIMEZONE
END:VCALENDAR