BEGIN:VCALENDAR
VERSION:2.0
PRODID:-//wp-events-plugin.com//7.2.3.1//EN
TZID:America/Vancouver
X-WR-TIMEZONE:America/Vancouver
BEGIN:VEVENT
UID:17@viclug.ca
DTSTART;TZID=America/Vancouver:20230417T190000
DTEND;TZID=America/Vancouver:20230417T210000
DTSTAMP:20230408T180753Z
URL:https://viclug.ca/events/monthly-club-meeting-2023-04-17/
SUMMARY:Monthly Club Meeting
DESCRIPTION:Our monthly club meetings take place on the 3rd Monday of every
  month.
CATEGORIES:Meetings
LOCATION:Bartholomew's Pub\, 777 Douglas St\, Victoria\, British Columbia\,
  V8W 2B5\, Canada
X-APPLE-STRUCTURED-LOCATION;VALUE=URI;X-ADDRESS=777 Douglas St\, Victoria\,
  British Columbia\, V8W 2B5\, Canada;X-APPLE-RADIUS=100;X-TITLE=Bartholome
 w's Pub:geo:0,0
END:VEVENT
BEGIN:VTIMEZONE
TZID:America/Vancouver
X-LIC-LOCATION:America/Vancouver
BEGIN:DAYLIGHT
DTSTART:20230312T030000
TZOFFSETFROM:-0800
TZOFFSETTO:-0700
TZNAME:PDT
END:DAYLIGHT
END:VTIMEZONE
END:VCALENDAR