BEGIN:VCALENDAR
VERSION:2.0
PRODID:-//wp-events-plugin.com//7.2.3.1//EN
TZID:America/Vancouver
X-WR-TIMEZONE:America/Vancouver
BEGIN:VEVENT
UID:82@viclug.ca
DTSTART;TZID=America/Vancouver:20260420T190000
DTEND;TZID=America/Vancouver:20260420T210000
DTSTAMP:20260419T032306Z
URL:https://viclug.ca/events/monthly-club-meeting-2/
SUMMARY:Monthly Club Meeting
DESCRIPTION:Any Adult Fan Of LEGO in all it’s nerdy glory interested in s
 eeing what we are all about is welcome to come for part or all of the even
 ing. (Please note that our normal meeting date is the 3rd Monday of each m
 onth.)\n\nDate: April 20\, 2026\n\nLocation: The new Victoria NeighbourSpa
 ce (708 Douglas St)\n\nSchedule: The meeting will begin at 7:00 pm\; 8:00 
 – 9:00pm for whatever.\n\nParking: Some street spots may be available on
  the other side of St. Ann’s\, otherwise the nearest City Parkade is und
 er the Central Library. There is also pay parking at the Convention Centre
 /Empress Hotel.
LOCATION:Victoria NeighbourSpace\, 708 Douglas Street\, Victoria\, BC\, Can
 ada
X-APPLE-STRUCTURED-LOCATION;VALUE=URI;X-ADDRESS=708 Douglas Street\, Victor
 ia\, BC\, Canada;X-APPLE-RADIUS=100;X-TITLE=Victoria NeighbourSpace:geo:0,
 0
END:VEVENT
BEGIN:VTIMEZONE
TZID:America/Vancouver
X-LIC-LOCATION:America/Vancouver
BEGIN:DAYLIGHT
DTSTART:20260308T030000
TZOFFSETFROM:-0800
TZOFFSETTO:-0700
TZNAME:PDT
END:DAYLIGHT
END:VTIMEZONE
END:VCALENDAR